BEGIN:VCALENDAR
VERSION:2.0
PRODID:-//Steve MacLellan - ECPv6.15.20//NONSGML v1.0//EN
CALSCALE:GREGORIAN
METHOD:PUBLISH
X-WR-CALNAME:Steve MacLellan
X-ORIGINAL-URL:https://stevemaclellan.com
X-WR-CALDESC:Events for Steve MacLellan
REFRESH-INTERVAL;VALUE=DURATION:PT1H
X-Robots-Tag:noindex
X-PUBLISHED-TTL:PT1H
BEGIN:VTIMEZONE
TZID:America/Chicago
BEGIN:DAYLIGHT
TZOFFSETFROM:-0600
TZOFFSETTO:-0500
TZNAME:CDT
DTSTART:20190310T080000
END:DAYLIGHT
BEGIN:STANDARD
TZOFFSETFROM:-0500
TZOFFSETTO:-0600
TZNAME:CST
DTSTART:20191103T070000
END:STANDARD
BEGIN:DAYLIGHT
TZOFFSETFROM:-0600
TZOFFSETTO:-0500
TZNAME:CDT
DTSTART:20200308T080000
END:DAYLIGHT
BEGIN:STANDARD
TZOFFSETFROM:-0500
TZOFFSETTO:-0600
TZNAME:CST
DTSTART:20201101T070000
END:STANDARD
BEGIN:DAYLIGHT
TZOFFSETFROM:-0600
TZOFFSETTO:-0500
TZNAME:CDT
DTSTART:20210314T080000
END:DAYLIGHT
BEGIN:STANDARD
TZOFFSETFROM:-0500
TZOFFSETTO:-0600
TZNAME:CST
DTSTART:20211107T070000
END:STANDARD
BEGIN:DAYLIGHT
TZOFFSETFROM:-0600
TZOFFSETTO:-0500
TZNAME:CDT
DTSTART:20220313T080000
END:DAYLIGHT
BEGIN:STANDARD
TZOFFSETFROM:-0500
TZOFFSETTO:-0600
TZNAME:CST
DTSTART:20221106T070000
END:STANDARD
END:VTIMEZONE
BEGIN:VEVENT
DTSTART;TZID=America/Chicago:20201219T080000
DTEND;TZID=America/Chicago:20210212T170000
DTSTAMP:20260424T080908
CREATED:20201219T204041Z
LAST-MODIFIED:20201219T204042Z
UID:2895-1608364800-1613149200@stevemaclellan.com
SUMMARY:Stop Grassy Mountain Coal and Protect the Rockies
DESCRIPTION:Mountaintop-removal coal mines in the Southern Eastern slopes of Alberta's Rocky Mountains will worsen climate change\, contaminate water and destroy fish and wildlife habitat. The proposed Grassy Mountain Coal Project and a number of proposed coal projects in Southwest Alberta pose a serious threat to the environment and character of the region. They must not be allowed to proceed.  \n\n\n	Use the template here to send a letter to Canada's Minister of the Environment and Climate Change.
URL:https://stevemaclellan.com/event/stop-grassy-mountain-coal-and-protect-the-rockies/
LOCATION:CPAWS
CATEGORIES:Petition
ATTACH;FMTTYPE=image/png:https://stevemaclellan.com/wp-content/uploads/2020/12/StopGrassyProtecttheRockies_V2.png
ORGANIZER;CN="CPAWS":MAILTO:info@cpaws.org
END:VEVENT
END:VCALENDAR