BEGIN:VCALENDAR
VERSION:2.0
PRODID:-//Steve MacLellan - ECPv6.15.20//NONSGML v1.0//EN
CALSCALE:GREGORIAN
METHOD:PUBLISH
X-WR-CALNAME:Steve MacLellan
X-ORIGINAL-URL:https://stevemaclellan.com
X-WR-CALDESC:Events for Steve MacLellan
REFRESH-INTERVAL;VALUE=DURATION:PT1H
X-Robots-Tag:noindex
X-PUBLISHED-TTL:PT1H
BEGIN:VTIMEZONE
TZID:America/Denver
BEGIN:DAYLIGHT
TZOFFSETFROM:-0700
TZOFFSETTO:-0600
TZNAME:MDT
DTSTART:20190310T090000
END:DAYLIGHT
BEGIN:STANDARD
TZOFFSETFROM:-0600
TZOFFSETTO:-0700
TZNAME:MST
DTSTART:20191103T080000
END:STANDARD
BEGIN:DAYLIGHT
TZOFFSETFROM:-0700
TZOFFSETTO:-0600
TZNAME:MDT
DTSTART:20200308T090000
END:DAYLIGHT
BEGIN:STANDARD
TZOFFSETFROM:-0600
TZOFFSETTO:-0700
TZNAME:MST
DTSTART:20201101T080000
END:STANDARD
BEGIN:DAYLIGHT
TZOFFSETFROM:-0700
TZOFFSETTO:-0600
TZNAME:MDT
DTSTART:20210314T090000
END:DAYLIGHT
BEGIN:STANDARD
TZOFFSETFROM:-0600
TZOFFSETTO:-0700
TZNAME:MST
DTSTART:20211107T080000
END:STANDARD
BEGIN:DAYLIGHT
TZOFFSETFROM:-0700
TZOFFSETTO:-0600
TZNAME:MDT
DTSTART:20220313T090000
END:DAYLIGHT
BEGIN:STANDARD
TZOFFSETFROM:-0600
TZOFFSETTO:-0700
TZNAME:MST
DTSTART:20221106T080000
END:STANDARD
END:VTIMEZONE
BEGIN:VTIMEZONE
TZID:America/Chicago
BEGIN:DAYLIGHT
TZOFFSETFROM:-0600
TZOFFSETTO:-0500
TZNAME:CDT
DTSTART:20190310T080000
END:DAYLIGHT
BEGIN:STANDARD
TZOFFSETFROM:-0500
TZOFFSETTO:-0600
TZNAME:CST
DTSTART:20191103T070000
END:STANDARD
BEGIN:DAYLIGHT
TZOFFSETFROM:-0600
TZOFFSETTO:-0500
TZNAME:CDT
DTSTART:20200308T080000
END:DAYLIGHT
BEGIN:STANDARD
TZOFFSETFROM:-0500
TZOFFSETTO:-0600
TZNAME:CST
DTSTART:20201101T070000
END:STANDARD
BEGIN:DAYLIGHT
TZOFFSETFROM:-0600
TZOFFSETTO:-0500
TZNAME:CDT
DTSTART:20210314T080000
END:DAYLIGHT
BEGIN:STANDARD
TZOFFSETFROM:-0500
TZOFFSETTO:-0600
TZNAME:CST
DTSTART:20211107T070000
END:STANDARD
BEGIN:DAYLIGHT
TZOFFSETFROM:-0600
TZOFFSETTO:-0500
TZNAME:CDT
DTSTART:20220313T080000
END:DAYLIGHT
BEGIN:STANDARD
TZOFFSETFROM:-0500
TZOFFSETTO:-0600
TZNAME:CST
DTSTART:20221106T070000
END:STANDARD
END:VTIMEZONE
BEGIN:VTIMEZONE
TZID:America/Edmonton
BEGIN:DAYLIGHT
TZOFFSETFROM:-0700
TZOFFSETTO:-0600
TZNAME:MDT
DTSTART:20190310T090000
END:DAYLIGHT
BEGIN:STANDARD
TZOFFSETFROM:-0600
TZOFFSETTO:-0700
TZNAME:MST
DTSTART:20191103T080000
END:STANDARD
BEGIN:DAYLIGHT
TZOFFSETFROM:-0700
TZOFFSETTO:-0600
TZNAME:MDT
DTSTART:20200308T090000
END:DAYLIGHT
BEGIN:STANDARD
TZOFFSETFROM:-0600
TZOFFSETTO:-0700
TZNAME:MST
DTSTART:20201101T080000
END:STANDARD
BEGIN:DAYLIGHT
TZOFFSETFROM:-0700
TZOFFSETTO:-0600
TZNAME:MDT
DTSTART:20210314T090000
END:DAYLIGHT
BEGIN:STANDARD
TZOFFSETFROM:-0600
TZOFFSETTO:-0700
TZNAME:MST
DTSTART:20211107T080000
END:STANDARD
BEGIN:DAYLIGHT
TZOFFSETFROM:-0700
TZOFFSETTO:-0600
TZNAME:MDT
DTSTART:20220313T090000
END:DAYLIGHT
BEGIN:STANDARD
TZOFFSETFROM:-0600
TZOFFSETTO:-0700
TZNAME:MST
DTSTART:20221106T080000
END:STANDARD
END:VTIMEZONE
BEGIN:VTIMEZONE
TZID:America/Vancouver
BEGIN:DAYLIGHT
TZOFFSETFROM:-0800
TZOFFSETTO:-0700
TZNAME:PDT
DTSTART:20190310T100000
END:DAYLIGHT
BEGIN:STANDARD
TZOFFSETFROM:-0700
TZOFFSETTO:-0800
TZNAME:PST
DTSTART:20191103T090000
END:STANDARD
BEGIN:DAYLIGHT
TZOFFSETFROM:-0800
TZOFFSETTO:-0700
TZNAME:PDT
DTSTART:20200308T100000
END:DAYLIGHT
BEGIN:STANDARD
TZOFFSETFROM:-0700
TZOFFSETTO:-0800
TZNAME:PST
DTSTART:20201101T090000
END:STANDARD
BEGIN:DAYLIGHT
TZOFFSETFROM:-0800
TZOFFSETTO:-0700
TZNAME:PDT
DTSTART:20210314T100000
END:DAYLIGHT
BEGIN:STANDARD
TZOFFSETFROM:-0700
TZOFFSETTO:-0800
TZNAME:PST
DTSTART:20211107T090000
END:STANDARD
END:VTIMEZONE
BEGIN:VEVENT
DTSTART;TZID=America/Denver:20210226T100000
DTEND;TZID=America/Denver:20210226T120000
DTSTAMP:20260423T172934
CREATED:20210225T164913Z
LAST-MODIFIED:20210225T165018Z
UID:3355-1614333600-1614340800@stevemaclellan.com
SUMMARY:Affordable housing + the housing crisis
DESCRIPTION:This Friday\, join Annamie Paul\, Green MP Paul Manly & experts Leilani Farha\, former Special Rapporteur to the UN on housing\, and Shalini Konanur\, lawyer and executive director of South Asian Legal Clinic of Ontario\, on this extremely pressing issue.\n\nPeople across Canada are being impacted by a housing crisis. Greens are calling for measures to be taken to increase affordability.
URL:https://stevemaclellan.com/event/affordable-housing-the-housing-crisis/
LOCATION:Online through Zoom\, Alberta\, Canada
CATEGORIES:Virtual
ATTACH;FMTTYPE=image/jpeg:https://stevemaclellan.com/wp-content/uploads/2021/02/af-housing.jpg
END:VEVENT
BEGIN:VEVENT
DTSTART;TZID=America/Chicago:20210211T100000
DTEND;TZID=America/Chicago:20210211T120000
DTSTAMP:20260423T172934
CREATED:20210127T030852Z
LAST-MODIFIED:20210127T030853Z
UID:3217-1613037600-1613044800@stevemaclellan.com
SUMMARY:Coal Mining in the Oldman River Watershed: What is happening and what are the long-term impacts?
DESCRIPTION:This Friday\, join Annamie Paul\, Green MP Paul Manly & experts Leilani Farha\, former Special Rapporteur to the UN on housing\, and Shalini Konanur\, lawyer and executive director of South Asian Legal Clinic of Ontario\, on this extremely pressing issue.\n\nPeople across Canada are being impacted by a housing crisis. Greens are calling for measures to be taken to increase affordability.
URL:https://stevemaclellan.com/event/coal-mining-in-the-oldman-river-watershed-what-is-happening-and-what-are-the-long-term-impacts/
LOCATION:Online through Zoom\, Alberta\, Canada
CATEGORIES:Virtual
ATTACH;FMTTYPE=image/jpeg:https://stevemaclellan.com/wp-content/uploads/2021/01/sacpa.jpeg
ORGANIZER;CN="Southern Alberta Council on Public Affairs (SACPA)":MAILTO:info@sacpa.ca
END:VEVENT
BEGIN:VEVENT
DTSTART;TZID=America/Denver:20210128T200000
DTEND;TZID=America/Denver:20210128T220000
DTSTAMP:20260423T172935
CREATED:20210108T140628Z
LAST-MODIFIED:20210108T140756Z
UID:3086-1611864000-1611871200@stevemaclellan.com
SUMMARY:Dr. Trevor Harrison presents The Promise and Peril of Populism
DESCRIPTION:This Friday\, join Annamie Paul\, Green MP Paul Manly & experts Leilani Farha\, former Special Rapporteur to the UN on housing\, and Shalini Konanur\, lawyer and executive director of South Asian Legal Clinic of Ontario\, on this extremely pressing issue.\n\nPeople across Canada are being impacted by a housing crisis. Greens are calling for measures to be taken to increase affordability.
URL:https://stevemaclellan.com/event/dr-trevor-harrison-presents-the-promise-and-peril-of-populism/
LOCATION:Online through Zoom\, Alberta\, Canada
CATEGORIES:Virtual
ATTACH;FMTTYPE=image/jpeg:https://stevemaclellan.com/wp-content/uploads/2021/01/trevor.jpeg
ORGANIZER;CN="University of Lethbridge":MAILTO:artsci.communication@uleth.ca
END:VEVENT
BEGIN:VEVENT
DTSTART;TZID=America/Edmonton:20210119T190000
DTEND;TZID=America/Edmonton:20210119T220000
DTSTAMP:20260423T172935
CREATED:20210113T021753Z
LAST-MODIFIED:20210113T022127Z
UID:3121-1611082800-1611093600@stevemaclellan.com
SUMMARY:Alberta Party hosting meeting to discuss the proposed Grassy Mountain Coal Project
DESCRIPTION:This Friday\, join Annamie Paul\, Green MP Paul Manly & experts Leilani Farha\, former Special Rapporteur to the UN on housing\, and Shalini Konanur\, lawyer and executive director of South Asian Legal Clinic of Ontario\, on this extremely pressing issue.\n\nPeople across Canada are being impacted by a housing crisis. Greens are calling for measures to be taken to increase affordability.
URL:https://stevemaclellan.com/event/alberta-party-hosting-meeting-to-discuss-the-proposed-grassy-mountain-coal-project/
LOCATION:Online through Zoom\, Alberta\, Canada
CATEGORIES:Virtual
ATTACH;FMTTYPE=image/png:https://stevemaclellan.com/wp-content/uploads/2021/01/alberta-party.png
ORGANIZER;CN="Alberta Party":MAILTO:brenda.stanton@albertaparty.ca
END:VEVENT
BEGIN:VEVENT
DTSTART;TZID=America/Denver:20201230T190000
DTEND;TZID=America/Denver:20201230T200000
DTSTAMP:20260423T172935
CREATED:20201229T020135Z
LAST-MODIFIED:20201229T020135Z
UID:3017-1609354800-1609358400@stevemaclellan.com
SUMMARY:Climate Reality Presentation #6
DESCRIPTION:This Friday\, join Annamie Paul\, Green MP Paul Manly & experts Leilani Farha\, former Special Rapporteur to the UN on housing\, and Shalini Konanur\, lawyer and executive director of South Asian Legal Clinic of Ontario\, on this extremely pressing issue.\n\nPeople across Canada are being impacted by a housing crisis. Greens are calling for measures to be taken to increase affordability.
URL:https://stevemaclellan.com/event/climate-reality-presentation-6/
LOCATION:Online through Zoom\, Alberta\, Canada
CATEGORIES:Virtual
ATTACH;FMTTYPE=image/png:https://stevemaclellan.com/wp-content/uploads/2020/12/make-the-planet-great.png
END:VEVENT
BEGIN:VEVENT
DTSTART;TZID=America/Chicago:20201213T190000
DTEND;TZID=America/Chicago:20201213T200000
DTSTAMP:20260423T172935
CREATED:20201204T232029Z
LAST-MODIFIED:20201204T232030Z
UID:2793-1607886000-1607889600@stevemaclellan.com
SUMMARY:Calgary: No Coal for Christmas: Letter Writing & Colouring Event
DESCRIPTION:This Friday\, join Annamie Paul\, Green MP Paul Manly & experts Leilani Farha\, former Special Rapporteur to the UN on housing\, and Shalini Konanur\, lawyer and executive director of South Asian Legal Clinic of Ontario\, on this extremely pressing issue.\n\nPeople across Canada are being impacted by a housing crisis. Greens are calling for measures to be taken to increase affordability.
URL:https://stevemaclellan.com/event/calgary-no-coal-for-christmas-letter-writing-colouring-event/
LOCATION:Online through Zoom\, Alberta\, Canada
CATEGORIES:Virtual
ATTACH;FMTTYPE=image/png:https://stevemaclellan.com/wp-content/uploads/2020/12/NoCoal.png
ORGANIZER;CN="Council of Candians":MAILTO:media@canadians.org
END:VEVENT
BEGIN:VEVENT
DTSTART;TZID=America/Vancouver:20201208T120000
DTEND;TZID=America/Vancouver:20201208T130000
DTSTAMP:20260423T172935
CREATED:20201205T150436Z
LAST-MODIFIED:20201205T150436Z
UID:2801-1607428800-1607432400@stevemaclellan.com
SUMMARY:Tackling Fossil Fuel Subsidies in British Columbia
DESCRIPTION:This Friday\, join Annamie Paul\, Green MP Paul Manly & experts Leilani Farha\, former Special Rapporteur to the UN on housing\, and Shalini Konanur\, lawyer and executive director of South Asian Legal Clinic of Ontario\, on this extremely pressing issue.\n\nPeople across Canada are being impacted by a housing crisis. Greens are calling for measures to be taken to increase affordability.
URL:https://stevemaclellan.com/event/tackling-fossil-fuel-subsidies-in-british-columbia/
LOCATION:Online through Zoom\, Alberta\, Canada
CATEGORIES:Virtual
ATTACH;FMTTYPE=image/jpeg:https://stevemaclellan.com/wp-content/uploads/2020/12/IISD.jpg
ORGANIZER;CN="Dogwood":MAILTO:info@dogwoodbc.ca
END:VEVENT
BEGIN:VEVENT
DTSTART;TZID=America/Vancouver:20201207T130000
DTEND;TZID=America/Vancouver:20201207T140000
DTSTAMP:20260423T172935
CREATED:20201204T050053Z
LAST-MODIFIED:20201206T151511Z
UID:2726-1607346000-1607349600@stevemaclellan.com
SUMMARY:Join us for a free webinar on fracking and LNG in BC!
DESCRIPTION:This Friday\, join Annamie Paul\, Green MP Paul Manly & experts Leilani Farha\, former Special Rapporteur to the UN on housing\, and Shalini Konanur\, lawyer and executive director of South Asian Legal Clinic of Ontario\, on this extremely pressing issue.\n\nPeople across Canada are being impacted by a housing crisis. Greens are calling for measures to be taken to increase affordability.
URL:https://stevemaclellan.com/event/join-us-for-a-free-webinar-on-fracking-and-lng-in-bc/
LOCATION:Fracking and LNG in BC\, Box 1270\, Comox\, BC\, V9M 7Z8\, Canada
CATEGORIES:Virtual
ATTACH;FMTTYPE=image/jpeg:https://stevemaclellan.com/wp-content/uploads/2020/10/pumping-jacks.jpg
ORGANIZER;CN="Watershed Sentinel":MAILTO:editor@watershedsentinel.ca
END:VEVENT
BEGIN:VEVENT
DTSTART;TZID=America/Edmonton:20201207T110000
DTEND;TZID=America/Edmonton:20201207T133000
DTSTAMP:20260423T172935
CREATED:20201206T174845Z
LAST-MODIFIED:20201206T174845Z
UID:2837-1607338800-1607347800@stevemaclellan.com
SUMMARY:COVID-19\, Inequalities\, and the Future of Cities
DESCRIPTION:This Friday\, join Annamie Paul\, Green MP Paul Manly & experts Leilani Farha\, former Special Rapporteur to the UN on housing\, and Shalini Konanur\, lawyer and executive director of South Asian Legal Clinic of Ontario\, on this extremely pressing issue.\n\nPeople across Canada are being impacted by a housing crisis. Greens are calling for measures to be taken to increase affordability.
URL:https://stevemaclellan.com/event/covid-19-inequalities-and-the-future-of-cities/
LOCATION:Online through Zoom\, Alberta\, Canada
CATEGORIES:Virtual
ATTACH;FMTTYPE=image/jpeg:https://stevemaclellan.com/wp-content/uploads/2020/12/cities_n.jpg
ORGANIZER;CN="LSE International Inequalities Institute":MAILTO:a.revel@lse.ac.uk
END:VEVENT
END:VCALENDAR